BEGIN:VCALENDAR
VERSION:2.0
CALSCALE:GREGORIAN
BEGIN:VEVENT
SUMMARY:🧡 Vinyasa Flow
DTSTART;TZID=Europe/Madrid:20260324T100000
DTEND;TZID=Europe/Madrid:20260324T111500
LOCATION:Calma Yoga Studio
DESCRIPTION: ¡Empieza el día de la mejor forma ! 
Clase dinámica de 75 minutos, pero no demasiado exigente para que experimentes una forma amable para iniciar tu día. Práctica muy interoceptiva.
Empieza  “fluyendo” en tu práctica ¿Y por qué no? Desde ahí,  fluye amablemente en tu día, en tu vida..”
Esta clase es un Flow para todos los niveles, diseñada para sentir las necesidades de tu cuerpo y a partir de ahí irte nutriendo como necesites. Con posturas y enlaces sencillos y energéticos para despertar el cuerpo.  Siente el movimiento de la energía y del cuerpo.
STATUS:CONFIRMED
SEQUENCE:0
END:VEVENT
END:VCALENDAR