BEGIN:VCALENDAR
VERSION:2.0
CALSCALE:GREGORIAN
BEGIN:VEVENT
SUMMARY:Hatha suave🧎‍♀️
DTSTART;TZID=Europe/Madrid:20260511T093000
DTEND;TZID=Europe/Madrid:20260511T103000
LOCATION:CALMA YOGA STUDIO
DESCRIPTION: Clase de 60 minutos. no demasiado exigente para que experimentes una forma amable para iniciar tu día. Una clase más estática que la de vinyasa te dará la oportunidad de profundizar con mayor detalle en cada aspecto, incluyendo la escucha activa hacia tu interior. 
 Si buscas movimiento, pero aún no tienes mucha experiencia, esta clase es para ti.
STATUS:CONFIRMED
SEQUENCE:0
END:VEVENT
END:VCALENDAR