BEGIN:VCALENDAR
VERSION:2.0
CALSCALE:GREGORIAN
BEGIN:VEVENT
SUMMARY:Feet up yoga🤸‍♀️
DTSTART;TZID=Europe/Madrid:20260527T100000
DTEND;TZID=Europe/Madrid:20260527T110000
LOCATION:Calma Yoga Studio
DESCRIPTION: El &quot;Feet Up Yoga&quot; es una práctica innovadora que utiliza un soporte especializado para invertir el cuerpo sin presionar el cuello.  Permite a los practicantes experimentar posturas invertidas con seguridad, mejorando la circulación, fortaleciendo músculos y proporcionando relajación. Además es Ideal para principiantes que buscan aprender la alineación de las posturas
STATUS:CONFIRMED
SEQUENCE:0
END:VEVENT
END:VCALENDAR