BEGIN:VCALENDAR
VERSION:2.0
CALSCALE:GREGORIAN
BEGIN:VEVENT
SUMMARY:20:00 VINYASA YOGA
DTSTART;TZID=Europe/Madrid:20250717T200000
DTEND;TZID=Europe/Madrid:20250717T210000
LOCATION:Calle de Zamora, 29 - Local 2 - Fuenlabrada (Madrid)
DESCRIPTION: CLASE DE YOGA DINÁMICA Y FLUIDA
STATUS:CONFIRMED
SEQUENCE:0
END:VEVENT
END:VCALENDAR