BEGIN:VCALENDAR
VERSION:2.0
CALSCALE:GREGORIAN
BEGIN:VEVENT
SUMMARY:10:00 HATHA YOGA
DTSTART;TZID=Europe/Madrid:20250717T100000
DTEND;TZID=Europe/Madrid:20250717T111500
LOCATION:Calle Zamora 29 Local 2 Fuenlabrada Madrid
DESCRIPTION: 
STATUS:CONFIRMED
SEQUENCE:0
END:VEVENT
END:VCALENDAR