BEGIN:VCALENDAR
VERSION:2.0
CALSCALE:GREGORIAN
BEGIN:VEVENT
SUMMARY:12:00 pilates Mónica
DTSTART;TZID=Europe/Madrid:20251222T120000
DTEND;TZID=Europe/Madrid:20251222T130000
LOCATION:Calle de Zamora 29, Local 2 - 28942 - Fuenlabrada (Madrid)
DESCRIPTION: 
STATUS:CONFIRMED
SEQUENCE:0
END:VEVENT
END:VCALENDAR