BEGIN:VCALENDAR
VERSION:2.0
CALSCALE:GREGORIAN
BEGIN:VEVENT
SUMMARY:Sunday Morning Yoga and Meditation in the Secret Garden
DTSTART;TZID=Europe/London:20230820T093000
DTEND;TZID=Europe/London:20230820T110000
LOCATION:Secret Yoga Garden, allotments off Water Furlong, PE9 2QH
DESCRIPTION: Our regular Sunday morning class. 
Join Calmer Soul Yoga for 1.5 hours of:
- Hatha yoga
- Pranayama (breathwork)
- Meditation
- Guided relaxation
- All levels welcome including beginners.
Leave feeling calmer.
STATUS:CONFIRMED
SEQUENCE:0
END:VEVENT
END:VCALENDAR