BEGIN:VCALENDAR
VERSION:2.0
CALSCALE:GREGORIAN
BEGIN:VEVENT
SUMMARY:Pilates Tapis Cardio
DTSTART;TZID=Europe/Paris:20251009T123000
DTEND;TZID=Europe/Paris:20251009T133000
LOCATION:Anglet
DESCRIPTION: Cours de Pilates sur Tapis de niveau intermédiaire qui allie mouvements fonctionnels et principes classiques du Pilates. Séance énergisante met votre endurance à l&#039;épreuve tout en augmentant votre rythme cardiaque, créant un entraînement complet du corps qui vous revigore. 

Squats, fentes, planches et quelques sauts et exercices du répertoire traditionnel Pilates.
STATUS:CONFIRMED
SEQUENCE:0
END:VEVENT
END:VCALENDAR