BEGIN:VCALENDAR
VERSION:2.0
CALSCALE:GREGORIAN
BEGIN:VEVENT
SUMMARY:Machines Pilates Intermédiaire
DTSTART;TZID=Europe/Paris:20251010T140000
DTEND;TZID=Europe/Paris:20251010T145500
LOCATION:Anglet
DESCRIPTION: M&amp;#039;appelez au 06 31 36 25 81 pour réserver
STATUS:CONFIRMED
SEQUENCE:0
END:VEVENT
END:VCALENDAR