BEGIN:VCALENDAR
VERSION:2.0
CALSCALE:GREGORIAN
BEGIN:VEVENT
SUMMARY:Pilates SENIOR-Intermédiaire
DTSTART;TZID=Europe/Paris:20251128T103000
DTEND;TZID=Europe/Paris:20251128T112500
LOCATION:Anglet
DESCRIPTION: Ce cours est idéal pour les personnes souhaitant un travail profond et en douceur. Adapté aux &amp;#34;seniors&amp;#34;, la séance propose des exercices d&amp;#039;abdominaux sans flexion de colonne,  renforcement musculaire, travail postural et équilibre.
STATUS:CONFIRMED
SEQUENCE:0
END:VEVENT
END:VCALENDAR