BEGIN:VCALENDAR
VERSION:2.0
CALSCALE:GREGORIAN
BEGIN:VEVENT
SUMMARY:Machines Pilates Ts Niveaux
DTSTART;TZID=Europe/Paris:20260108T113000
DTEND;TZID=Europe/Paris:20260108T122500
LOCATION:Anglet
DESCRIPTION: Cours adapté selon le niveau des participants et participantes. Le cours est sur reformer mais en fonction du nombre de personnes participantes également sur Chair, Tower, Spine ou Mat.
STATUS:CONFIRMED
SEQUENCE:0
END:VEVENT
END:VCALENDAR