BEGIN:VCALENDAR
VERSION:2.0
CALSCALE:GREGORIAN
BEGIN:VEVENT
SUMMARY:Machines Pilates
DTSTART;TZID=Europe/Paris:20260109T114500
DTEND;TZID=Europe/Paris:20260109T124000
LOCATION:Anglet
DESCRIPTION: Appeler au 06 31 36 25 81 après réservation si vous venez pour la 1ère fois au studio
STATUS:CONFIRMED
SEQUENCE:0
END:VEVENT
END:VCALENDAR