BEGIN:VCALENDAR
VERSION:2.0
CALSCALE:GREGORIAN
BEGIN:VEVENT
SUMMARY:Pilates sur Spine corrector
DTSTART;TZID=Europe/Paris:20260810T190000
DTEND;TZID=Europe/Paris:20260810T201500
LOCATION:Anglet
DESCRIPTION: Tarif 25 euros hors carte- limité à 4 personnes
Pré requis: ne pas être débutant en Pilates. Avoir acquis les bases du pilates sur tapis. Nous contacter ( texto ou par téléphone) pour réserver et  si vous venez pour la 1ère fois au studio paiement uniquement sur place en chèque ou espèces, merci.
STATUS:CONFIRMED
SEQUENCE:0
END:VEVENT
END:VCALENDAR