BEGIN:VCALENDAR
VERSION:2.0
CALSCALE:GREGORIAN
BEGIN:VEVENT
SUMMARY:Tapis Pilates - Senior
DTSTART;TZID=Europe/Paris:20260113T184500
DTEND;TZID=Europe/Paris:20260113T194000
LOCATION:Anglet
DESCRIPTION: Nous contacter 06 31 36 25 81 ( texto ou par téléphone) pour réserver et  si vous venez pour la 1ère fois au studio paiement uniquement sur place par chèque ou espèces, merci.
STATUS:CONFIRMED
SEQUENCE:0
END:VEVENT
END:VCALENDAR