BEGIN:VCALENDAR
VERSION:2.0
CALSCALE:GREGORIAN
BEGIN:VEVENT
SUMMARY:Classes start next week
DTSTART;TZID=Australia/Melbourne:20250818T181500
DTEND;TZID=Australia/Melbourne:20250818T191500
LOCATION:SLSC Clubhouse
DESCRIPTION: A slower-paced Yin practice designed to calm the body and mind.
STATUS:CONFIRMED
SEQUENCE:0
END:VEVENT
END:VCALENDAR