BEGIN:VCALENDAR
VERSION:2.0
CALSCALE:GREGORIAN
BEGIN:VEVENT
SUMMARY:Yang
DTSTART;TZID=Australia/Melbourne:20250904T064500
DTEND;TZID=Australia/Melbourne:20250904T074500
LOCATION:SLSC Clubhouse
DESCRIPTION: An informative Yang class designed around poses to support fasting and detoxing, paving the way for new habits. 
Expect to be challenged and re-energised in muscular endurance, as we collectively work to improve strength, stability and flexibility.
STATUS:CONFIRMED
SEQUENCE:0
END:VEVENT
END:VCALENDAR