BEGIN:VCALENDAR
VERSION:2.0
CALSCALE:GREGORIAN
BEGIN:VEVENT
SUMMARY:Yang - Earth
DTSTART;TZID=Australia/Melbourne:20251203T083000
DTEND;TZID=Australia/Melbourne:20251203T093000
LOCATION:SLSC Clubhouse
DESCRIPTION: Feel rooted in a practice of earth-bound poses, designed to ground, anchor and stabilize.
STATUS:CONFIRMED
SEQUENCE:0
END:VEVENT
END:VCALENDAR