BEGIN:VCALENDAR
VERSION:2.0
CALSCALE:GREGORIAN
BEGIN:VEVENT
SUMMARY:Yang - The Elements
DTSTART;TZID=Australia/Melbourne:20251217T083000
DTEND;TZID=Australia/Melbourne:20251217T093000
LOCATION:SLSC Clubhouse
DESCRIPTION: Combining all four of the elements in a carefully curated sequence of water, fire, earth and air.
STATUS:CONFIRMED
SEQUENCE:0
END:VEVENT
END:VCALENDAR