BEGIN:VCALENDAR
VERSION:2.0
CALSCALE:GREGORIAN
BEGIN:VEVENT
SUMMARY:Yin Yoga - Hall not available
DTSTART;TZID=Australia/Melbourne:20260226T080000
DTEND;TZID=Australia/Melbourne:20260226T090000
LOCATION:SLSC
DESCRIPTION: Potentially a practice outdoors today, Expect a passive, quiet practice that cultivates physical ease and mental calm. Designed to release tension in the body while stimulating the body&#039;s connective tissue through settling into long held poses, yin yoga helps to increase your range of motion and promotes circulation.
STATUS:CONFIRMED
SEQUENCE:0
END:VEVENT
END:VCALENDAR