BEGIN:VCALENDAR
VERSION:2.0
CALSCALE:GREGORIAN
BEGIN:VEVENT
SUMMARY:(Steffie) Hatha 哈達瑜伽
DTSTART;TZID=Asia/Hong_Kong:20220623T112000
DTEND;TZID=Asia/Hong_Kong:20220623T122000
LOCATION:Casa Yoga
DESCRIPTION: 
STATUS:CONFIRMED
SEQUENCE:0
END:VEVENT
END:VCALENDAR