BEGIN:VCALENDAR
VERSION:2.0
CALSCALE:GREGORIAN
BEGIN:VEVENT
SUMMARY:Pilates gainage
DTSTART;TZID=Indian/Reunion:20260511T173000
DTEND;TZID=Indian/Reunion:20260511T182500
LOCATION:Centre Médico Sportif Galerie Avelli 77-79 rue du Maréchal Leclerc
DESCRIPTION: Tu maitrises déjà les fondamentaux du Pilates, tu n&#039;as pas de problème physique trop invalidant, tu as envie de transpirer un peu et de repousser tes limites, ce cours est fait pour toi.
STATUS:CONFIRMED
SEQUENCE:0
END:VEVENT
END:VCALENDAR