BEGIN:VCALENDAR
VERSION:2.0
CALSCALE:GREGORIAN
BEGIN:VEVENT
SUMMARY:Pilates du matin
DTSTART;TZID=Indian/Reunion:20260519T070000
DTEND;TZID=Indian/Reunion:20260519T075500
LOCATION:Centre Médico Sportif Galerie Avelli 77-79 rue du Maréchal Leclerc
DESCRIPTION: Que tu sois sporti.f.ve ou pas, que tu connaisses bien la méthode Pilates ou pas, viens réveiller tes muscles et tes articulations en douceur pour bien commencer ta journée.
STATUS:CONFIRMED
SEQUENCE:0
END:VEVENT
END:VCALENDAR