BEGIN:VCALENDAR
VERSION:2.0
CALSCALE:GREGORIAN
BEGIN:VEVENT
SUMMARY:Pilates gainage
DTSTART;TZID=Indian/Reunion:20260402T123500
DTEND;TZID=Indian/Reunion:20260402T133000
LOCATION:Centre Médico Sportif Galerie Avelli 77-79 rue du Maréchal Leclerc
DESCRIPTION: Pour les personnes qui maitrisent déjà les principes de bases du Pilates et qui ont envie de transpirer un petit peu.
STATUS:CONFIRMED
SEQUENCE:0
END:VEVENT
END:VCALENDAR