BEGIN:VCALENDAR
VERSION:2.0
CALSCALE:GREGORIAN
BEGIN:VEVENT
SUMMARY:Yoga flow med Christina
DTSTART;TZID=Europe/Stockholm:20230824T173000
DTEND;TZID=Europe/Stockholm:20230824T183000
LOCATION:Cattas Yoga
DESCRIPTION: Yoga Flow är en dynamisk och fysisk klass. 🤩
Flow innebär att varje rörelse seglar på ett andetag i ett flöde av rörelser som sätts samman till en skönt flow. Passar dig som vill ha en varierad yogapraktik och utmanas både fysiskt och mentalt.
Passar så väl nybörjare som vana yogisar, du utgår själv från var du är idag. 
-Väl mött på mattan! 
Namasté 💫
STATUS:CONFIRMED
SEQUENCE:0
END:VEVENT
END:VCALENDAR