BEGIN:VCALENDAR
VERSION:2.0
CALSCALE:GREGORIAN
BEGIN:VEVENT
SUMMARY:Yin Yoga &#039;75 med catta
DTSTART;TZID=Europe/Stockholm:20230817T184500
DTEND;TZID=Europe/Stockholm:20230817T200000
LOCATION:Cattas Yoga
DESCRIPTION: 
STATUS:CONFIRMED
SEQUENCE:0
END:VEVENT
END:VCALENDAR