BEGIN:VCALENDAR
VERSION:2.0
CALSCALE:GREGORIAN
BEGIN:VEVENT
SUMMARY:XL les van 3 uur &quot;Lazy Sunday&quot;
DTSTART;TZID=Europe/Amsterdam:20220424T100000
DTEND;TZID=Europe/Amsterdam:20220424T130000
LOCATION:Van Ruysdaellaan 41-69, Leidschendam
DESCRIPTION: Voor iedereen die altijd druk is op zaterdag, deze keer 3 uur lang de tijd voor jezelf op Zondag. Het eerste deel van de les staat in het teken van ontspannen en net niet in slaap vallen ;-) De tweede helft komen we vanuit die ontspanning in beweging. Moe en voldaan kun je de middag thuis  in alle rust doorbrengen.
STATUS:CONFIRMED
SEQUENCE:0
END:VEVENT
END:VCALENDAR