BEGIN:VCALENDAR
VERSION:2.0
CALSCALE:GREGORIAN
BEGIN:VEVENT
SUMMARY:Kundalini with Tracey O&#039;Hara (In Studio and Online via Zoom)
DTSTART;TZID=America/New_York:20251003T090000
DTEND;TZID=America/New_York:20251003T100000
LOCATION:Celestial Wellness Yoga Studio
DESCRIPTION: 
STATUS:CONFIRMED
SEQUENCE:0
END:VEVENT
END:VCALENDAR