BEGIN:VCALENDAR
VERSION:2.0
CALSCALE:GREGORIAN
BEGIN:VEVENT
SUMMARY:Fort Freedom Yoga in Studio + Online! (Fort Freedom Yogis Only!)
DTSTART;TZID=America/New_York:20251201T133000
DTEND;TZID=America/New_York:20251201T143000
LOCATION:Celestial Wellness Yoga Studio
DESCRIPTION: 
STATUS:CONFIRMED
SEQUENCE:0
END:VEVENT
END:VCALENDAR