BEGIN:VCALENDAR
VERSION:2.0
CALSCALE:GREGORIAN
BEGIN:VEVENT
SUMMARY:Vinyasa Flow for flexibility &amp; strength
DTSTART;TZID=America/Puerto_Rico:20211030T090000
DTEND;TZID=America/Puerto_Rico:20211030T100000
LOCATION:Centro La Paz, LLC
DESCRIPTION: Subbing for Naisha.
This class will still follow a Vinyasa Flow for flexibility and strength.
STATUS:CONFIRMED
SEQUENCE:0
END:VEVENT
END:VCALENDAR