BEGIN:VCALENDAR
VERSION:2.0
CALSCALE:GREGORIAN
BEGIN:VEVENT
SUMMARY:SUMMER SOLSTICE 🌞 DYNAMIC FLOW || Level 2–3
DTSTART;TZID=Europe/London:20250621T090000
DTEND;TZID=Europe/London:20250621T100000
LOCATION:Chrishall
DESCRIPTION: Celebrate the longest day of the year with an energizing morning flow! This special Summer Solstice class is a beautiful opportunity to connect to the light within you, harnessing the radiant, joyful energy that this seasonal shift brings.

We&#039;ll journey through a vibrant and dynamic sequence designed to uplift your spirit, awaken your breath, and gently invigorate the body. Let this flow help you release the week’s fatigue and reset your energy—leaving you refreshed, aligned, and ready for the weekend ahead.

Please arrive at least 10 minutes early so we can settle in and begin together on time.

I can’t wait to move with you!
STATUS:CONFIRMED
SEQUENCE:0
END:VEVENT
END:VCALENDAR