BEGIN:VCALENDAR
VERSION:2.0
CALSCALE:GREGORIAN
BEGIN:VEVENT
SUMMARY:🌟 SUMMER SOLSTICE SLOW FLOW 🌞 || All Levels Please note: Starts at 10:30 this week only!
DTSTART;TZID=Europe/London:20250621T103000
DTEND;TZID=Europe/London:20250621T113000
LOCATION:Chrishall
DESCRIPTION: Please note: Starts at 10:30 this week only!

Ease into the weekend with a soothing and grounding Slow Flow. In honour of the Summer Solstice, we’ll move mindfully through each posture, taking time to stretch deeply, open the joints, and release stagnant energy—inviting clarity, calm, and spaciousness into the body and mind.

This class is ideal if you&#039;re seeking a slower, more introspective practice, and it’s a wonderful entry point for beginners or anyone looking to deepen their connection to breath and body.

Please arrive at least 10 minutes early so we can settle in and begin together on time.

Looking forward to practicing with you!
STATUS:CONFIRMED
SEQUENCE:0
END:VEVENT
END:VCALENDAR