BEGIN:VCALENDAR
VERSION:2.0
CALSCALE:GREGORIAN
BEGIN:VEVENT
SUMMARY:Les bases du Yoga
DTSTART;TZID=Europe/Paris:20250916T180000
DTEND;TZID=Europe/Paris:20250916T190000
LOCATION:Hôphophop
DESCRIPTION: Un cours pour apprendre les bases, le placement dans les postures, la mécanique de la respiration, pour prendre le temps en début d&amp;#039;année. Orienté yoga dynamique mais pas que.
Prendre un tapis
STATUS:CONFIRMED
SEQUENCE:0
END:VEVENT
END:VCALENDAR