BEGIN:VCALENDAR
VERSION:2.0
CALSCALE:GREGORIAN
BEGIN:VEVENT
SUMMARY:Slow flow &amp; pranayama/nidra
DTSTART;TZID=Europe/Paris:20260423T191500
DTEND;TZID=Europe/Paris:20260423T201500
LOCATION:Goyam - Studio Zen
DESCRIPTION: Vinyasa doux + pranayama ou Nidra semaine impaire
Vinyasa semaine paire
STATUS:CONFIRMED
SEQUENCE:0
END:VEVENT
END:VCALENDAR