BEGIN:VCALENDAR
VERSION:2.0
CALSCALE:GREGORIAN
BEGIN:VEVENT
SUMMARY:Atelier flow du samedi: Les transitions en Vinyasa
DTSTART;TZID=Europe/Paris:20251115T101500
DTEND;TZID=Europe/Paris:20251115T113000
LOCATION:Goyam - Studio Zen
DESCRIPTION: Il y a plusieurs mouvements qu&#039;on fait assez régulièrement en vinyasa, toutes ces petites transitions pas toujours décomposé et qui pourtant demande de l&#039;attention et économise l&#039;énergie dans un flow quand elles sont comprise. On va prendre le temps de repasser le pied entre les mains et de trouver sa compression, d&#039;amener de l&#039;agitilité sous les orteils pour glisser d&#039;une fente à un guerrier 2 à un guerrier 3... Et surtout, utiliser vos interrogations pour aller plus loin ensemble!
STATUS:CONFIRMED
SEQUENCE:0
END:VEVENT
END:VCALENDAR