BEGIN:VCALENDAR
VERSION:2.0
CALSCALE:GREGORIAN
BEGIN:VEVENT
SUMMARY:Morning flow à la MJC palente
DTSTART;TZID=Europe/Paris:20260421T090000
DTEND;TZID=Europe/Paris:20260421T100000
LOCATION:MJC PALENTE
DESCRIPTION: Réservation directement auprès de la MJC
STATUS:CONFIRMED
SEQUENCE:0
END:VEVENT
END:VCALENDAR