BEGIN:VCALENDAR
VERSION:2.0
CALSCALE:GREGORIAN
BEGIN:VEVENT
SUMMARY:端午節課堂安排🌟
DTSTART;TZID=Asia/Hong_Kong:20210607T090000
DTEND;TZID=Asia/Hong_Kong:20210607T100000
LOCATION:Sha Tin
DESCRIPTION: 6月14日為端午節假期，課堂將會提早，歡迎會員踴躍預約。
STATUS:CONFIRMED
SEQUENCE:0
END:VEVENT
END:VCALENDAR