BEGIN:VCALENDAR
VERSION:2.0
CALSCALE:GREGORIAN
BEGIN:VEVENT
SUMMARY:⚡️系統更新完成通知
DTSTART;TZID=Asia/Hong_Kong:20210917T070000
DTEND;TZID=Asia/Hong_Kong:20210917T234000
LOCATION:Sha Tin
DESCRIPTION: 系統更新完成，會員可照常預約上堂，敬請用戶留意。

如有任何疑問，歡迎向我們查詢。

CHASER Team
STATUS:CONFIRMED
SEQUENCE:0
END:VEVENT
END:VCALENDAR