BEGIN:VCALENDAR
VERSION:2.0
CALSCALE:GREGORIAN
BEGIN:VEVENT
SUMMARY:❗️疫情最新安排❗️
DTSTART;TZID=Asia/Hong_Kong:20210217T000000
DTEND;TZID=Asia/Hong_Kong:20210217T000500
LOCATION:Sha Tin
DESCRIPTION: 因應政府宣布的最新公共防疫措施安排，CHASER Dance &amp; Fitness Studio 將於12月10日(四)開始暫停開放，停業至2月17日。

各會員已購買的套票將自動延期。如有查詢可隨時透過WhatsApp聯絡我們。

希望大家身體健康，注意衛生！共同抗疫💪🏻
STATUS:CONFIRMED
SEQUENCE:0
END:VEVENT
END:VCALENDAR