BEGIN:VCALENDAR
VERSION:2.0
CALSCALE:GREGORIAN
BEGIN:VEVENT
SUMMARY:K-POP/Jazz Funk - PoPo
DTSTART;TZID=Asia/Hong_Kong:20210222T180000
DTEND;TZID=Asia/Hong_Kong:20210222T190000
LOCATION:Sha Tin
DESCRIPTION: 導師: Miss PoPo
STATUS:CONFIRMED
SEQUENCE:0
END:VEVENT
END:VCALENDAR