BEGIN:VCALENDAR
VERSION:2.0
CALSCALE:GREGORIAN
BEGIN:VEVENT
SUMMARY:Kennismakingsles Chi Neng Qigong (gratis)
DTSTART;TZID=Europe/Amsterdam:20230112T184500
DTEND;TZID=Europe/Amsterdam:20230112T194500
LOCATION:&#039;t Ontmoetingscentrum
DESCRIPTION: Deze les is een speciale kennismakings les.

Je krijgt uitleg over Chi Neng Qigong. 
Deze les gaan we ook trainen. Met eenvoudige oefeningen laat ik jullie kennismaken met qigong. De oefeningen zijn makkelijk te volgen en ieder kan op eigen niveau meedoen. De oefeningen zijn meestal staand, maar kunnen ook zittend uitgevoerd worden.

Basislessen:
Na deze proefles starten de wekelijkse basislessen. Hier kun je je voor opgeven na de proefles.
Deze basiscursus heeft 10 lessen.  De kosten voor een basiscursus zijn €129,00 inclusief een hand-out, filmpjes en mp3’s zodat je ook thuis aan de slag kunt gaan. 

Start basislessen:
Donderdagavond 19 januari - 18:45 – 19:45 
Vrijdagochtend 20 januari - 10:15 - 11:30
STATUS:CONFIRMED
SEQUENCE:0
END:VEVENT
END:VCALENDAR