BEGIN:VCALENDAR
VERSION:2.0
CALSCALE:GREGORIAN
BEGIN:VEVENT
SUMMARY:Introductie workshop Chi Neng Meditatie
DTSTART;TZID=Europe/Amsterdam:20230423T093000
DTEND;TZID=Europe/Amsterdam:20230423T123000
LOCATION:Basicflow
DESCRIPTION: Met zachte mediatieve bewegingen uit de Chineng gaan we de stilte in ons ervaren en ervaren we een grote ruimte in ons zelf. In deze bewustzijnsruimte bewegen geeft ons een eenheidsgevoel en een heelheidsgevoel. Ook wel healing genoemd.

Een ochtend lang in diepe Qigong-staat:
Totale ontspanning. Stilte. 
Bewustzijn verruimend. 
Heelheids ervaring.

Dit is een speciale introductieworkshop waarin je de basis van Chi Neng Qigong en de essentie van Chi Neng Meditatie mee krijgt. Door deze kennis worden de oefeningen nog krachtiger. Je hoeft dus niet bekend te zijn met Chi Neng Qigong om mee te doen.

Locatie:
Basicflow, boven Praktijk de Watermolen.
Molenrand 3 in Gemert

Ticket:
€45,00
€35,00 voor leden Chineng met Lieselotte
STATUS:CONFIRMED
SEQUENCE:0
END:VEVENT
END:VCALENDAR