BEGIN:VCALENDAR
VERSION:2.0
CALSCALE:GREGORIAN
BEGIN:VEVENT
SUMMARY:PIlates Matte 18.45-19.45
DTSTART;TZID=Europe/Zurich:20260415T184500
DTEND;TZID=Europe/Zurich:20260415T194500
LOCATION:Klosterhof
DESCRIPTION: PIlates Matte all levels
STATUS:CONFIRMED
SEQUENCE:0
END:VEVENT
END:VCALENDAR