BEGIN:VCALENDAR
VERSION:2.0
CALSCALE:GREGORIAN
BEGIN:VEVENT
SUMMARY:Pilates Senioren 17.00-18.00
DTSTART;TZID=Europe/Zurich:20260422T170000
DTEND;TZID=Europe/Zurich:20260422T180000
LOCATION:Klosterhof
DESCRIPTION: Pilates Senioren
STATUS:CONFIRMED
SEQUENCE:0
END:VEVENT
END:VCALENDAR