BEGIN:VCALENDAR
VERSION:2.0
CALSCALE:GREGORIAN
BEGIN:VEVENT
SUMMARY:Reformer 08.00-09.00
DTSTART;TZID=Europe/Zurich:20260415T080000
DTEND;TZID=Europe/Zurich:20260415T090000
LOCATION:engelberg
DESCRIPTION: 
STATUS:CONFIRMED
SEQUENCE:0
END:VEVENT
END:VCALENDAR