BEGIN:VCALENDAR
VERSION:2.0
CALSCALE:GREGORIAN
BEGIN:VEVENT
SUMMARY:Séance individuelle de Sophro-relaxation
DTSTART;TZID=Europe/Paris:20240227T171500
DTEND;TZID=Europe/Paris:20240227T181500
LOCATION:Au Cocon
DESCRIPTION: Accompagnement dans la gestion du stress et de la douleur
STATUS:CONFIRMED
SEQUENCE:0
END:VEVENT
END:VCALENDAR