BEGIN:VCALENDAR
VERSION:2.0
CALSCALE:GREGORIAN
BEGIN:VEVENT
SUMMARY:Hatha  Yoga à la carte
DTSTART;TZID=Europe/Paris:20240329T081500
DTEND;TZID=Europe/Paris:20240329T091500
LOCATION:Au Cocon
DESCRIPTION: Association Wakan 
Au Cocon 49 bis Rue de la Belgique 92190 Meudon
Matériel fourni 
Paiement en ligne via la plate-forme helloasso wakan meudon
STATUS:CONFIRMED
SEQUENCE:0
END:VEVENT
END:VCALENDAR