BEGIN:VCALENDAR
VERSION:2.0
CALSCALE:GREGORIAN
BEGIN:VEVENT
SUMMARY:Hatha Yoga Trimestre ou Année
DTSTART;TZID=Europe/Paris:20240404T203000
DTEND;TZID=Europe/Paris:20240404T213000
LOCATION:Au Cocon
DESCRIPTION: Association Wakan 
Au Cocon, 49 bis Rue de la Belgique 92910 Meudon
Inscription au semi-trimestre ou trimestre encore possible en cours d&#039;année
Tarif au trimestre 162€ et 15€ d&#039;adhésion annuelle à l&#039;association Wakan
Reste 1 place
Paiement en ligne sur Helloasso Wakan Meudon
STATUS:CONFIRMED
SEQUENCE:0
END:VEVENT
END:VCALENDAR