BEGIN:VCALENDAR
VERSION:2.0
CALSCALE:GREGORIAN
BEGIN:VEVENT
SUMMARY:Séance individuelle de Sophro-relaxation
DTSTART;TZID=Europe/Paris:20240319T163000
DTEND;TZID=Europe/Paris:20240319T173000
LOCATION:Au Cocon
DESCRIPTION: A partir de 14 ans 
Gestion du stress et de l&#039;anxiété 
Acc. de la douleur (spécialité troubles inflammatoires) et de maladie
STATUS:CONFIRMED
SEQUENCE:0
END:VEVENT
END:VCALENDAR