BEGIN:VCALENDAR
VERSION:2.0
CALSCALE:GREGORIAN
BEGIN:VEVENT
SUMMARY:Séance individuelle Soin Résonance | Gestion du Stress | Sonothérapie
DTSTART;TZID=Europe/Paris:20250324T160000
DTEND;TZID=Europe/Paris:20250324T170000
LOCATION:Au Cocon
DESCRIPTION: Séance au choix; choisir lors de la sélection du tarif entre &quot;Soin Résonance&quot;; &quot;Gestion du stress&quot; ou Sonothérapie.
STATUS:CONFIRMED
SEQUENCE:0
END:VEVENT
END:VCALENDAR