BEGIN:VCALENDAR
VERSION:2.0
CALSCALE:GREGORIAN
BEGIN:VEVENT
SUMMARY:Yoga for pelvic floor health
DTSTART;TZID=Europe/London:20191119T130000
DTEND;TZID=Europe/London:20191119T140000
LOCATION:Studio 3, Mapperley
DESCRIPTION: A yoga and movement class focused on pelvic floor and core rehabilitation. This class is especially designed for anyone suffering with pelvic floor dysfunction or abdominal separation.
We will focus on breathing and relaxation techniques, improving mobility and strength of the whole body for a better functioning pelvic floor and core.
STATUS:CONFIRMED
SEQUENCE:0
END:VEVENT
END:VCALENDAR